BEGIN:VCALENDAR
VERSION:2.0
BEGIN:VEVENT
STATUS:TENTATIVE
DTSTART:20191121T083000Z
DTEND:20191121T170000Z
SUMMARY:GESTIÓN DE DESPACHOS PROFESIONALES Y TRANSFORMACIÓN DIGITAL
LOCATION:Hotel Room Mate Larios
DESCRIPTION:Jornada. 
END:VEVENT
END:VCALENDAR
