BEGIN:VCALENDAR
VERSION:2.0
BEGIN:VEVENT
STATUS:TENTATIVE
DTSTART:20191010T070000Z
DTEND:20191010T160000Z
SUMMARY:Análisis de la fiscalidad autonómica y sus aspectos conflictivos
LOCATION:Palacio de la Magdalena, Sala Riancho. Avenida de la Reina Victoria, s/n. Santander.
DESCRIPTION:Jornada. 
END:VEVENT
END:VCALENDAR
