BEGIN:VCALENDAR
VERSION:2.0
BEGIN:VEVENT
STATUS:TENTATIVE
DTSTART:20190426T070000Z
DTEND:20190426T150000Z
SUMMARY:Encuentro de asociados en Salamanca
LOCATION:Hotel Hacienda Zorita Ctra. Ledesma, Km. 10 37115 Valverdón
DESCRIPTION:Jornada. 
END:VEVENT
END:VCALENDAR
