BEGIN:VCALENDAR
VERSION:2.0
BEGIN:VEVENT
STATUS:TENTATIVE
DTSTART:20190403T080000Z
DTEND:20190403T120000Z
SUMMARY:Jornada de Derecho Fiscal en Ávila
LOCATION:Hotel Palacio Valderrábanos
DESCRIPTION:Jornada. 
END:VEVENT
END:VCALENDAR
