BEGIN:VCALENDAR
VERSION:2.0
BEGIN:VEVENT
STATUS:TENTATIVE
DTSTART:20190121T160000Z
DTEND:20190121T173000Z
SUMMARY:Jornada de Estudio Últimas Novedades Tributarias en Las Palmas de Gran Canaria
LOCATION:Sede AEDAF C/Rafael Nebot, 5, Las Palmas de G.C.
DESCRIPTION:Jornada. 
END:VEVENT
END:VCALENDAR
