BEGIN:VCALENDAR
VERSION:2.0
BEGIN:VEVENT
STATUS:TENTATIVE
DTSTART:20181212T081500Z
DTEND:20181212T123000Z
SUMMARY:Jornada sobre IVA
LOCATION:Colegio de Abogados de Zaragoza  C/ Don Jaime I, 18 Salón Decanato, Planta 2ª
DESCRIPTION:Jornada. 
END:VEVENT
END:VCALENDAR
