BEGIN:VCALENDAR
VERSION:2.0
BEGIN:VEVENT
STATUS:TENTATIVE
DTSTART:20181129T150000Z
DTEND:20181129T184000Z
SUMMARY:Jornadas Tenerife 2018- 29 y 30/11
LOCATION:Santo Domingo,1 San Cristobal de La Laguna
DESCRIPTION:Jornada. 
END:VEVENT
END:VCALENDAR
