BEGIN:VCALENDAR
VERSION:2.0
BEGIN:VEVENT
STATUS:TENTATIVE
DTSTART:20181030T083000Z
DTEND:20181030T170000Z
SUMMARY:Jornada fiscalidad internacional
LOCATION:Hotel Tres Reyes, Calle Taconera, 1, 31001 Pamplona, Navarra
DESCRIPTION:Jornada. 
END:VEVENT
END:VCALENDAR
