BEGIN:VCALENDAR
VERSION:2.0
BEGIN:VEVENT
STATUS:TENTATIVE
DTSTART:20180924T070000Z
DTEND:20180924T120000Z
SUMMARY:Jornada de la Empresa Familiar en Canarias
LOCATION:Sede Institucional Fundación Mapfre. (C/ Juan de Quesada, 10)
DESCRIPTION:Jornada. 
END:VEVENT
END:VCALENDAR
