BEGIN:VCALENDAR
VERSION:2.0
BEGIN:VEVENT
STATUS:TENTATIVE
DTSTART:20170323T154500Z
DTEND:20170323T190000Z
SUMMARY:Jornadas Lanzarote 2017
LOCATION:Hotel Costa Calero (Urb. Puerto Calero s/n - Lanzarote)
DESCRIPTION:Jornada. 
END:VEVENT
END:VCALENDAR
