BEGIN:VCALENDAR
VERSION:2.0
BEGIN:VEVENT
STATUS:TENTATIVE
DTSTART:20151105T153000Z
DTEND:20151105T183000Z
SUMMARY:Cierre Contable y Fiscal del ejercicio 2015. Aspectos prácticos
LOCATION:Hotel ABBA Centrum Alicante, c/ Pintor Lorenzo Casanova, 31, 03003 Alicante
DESCRIPTION:Seminario. de 16,30 a 19,30 horas
END:VEVENT
END:VCALENDAR
